
BEGIN:VCALENDAR
VERSION:2.0
PRODID:-//Port of Spain Almería - ECPv5.16.1.1//NONSGML v1.0//EN
CALSCALE:GREGORIAN
METHOD:PUBLISH
X-WR-CALNAME:Port of Spain Almería
X-ORIGINAL-URL:https://portofspainalmeria.com
X-WR-CALDESC:Eventos para Port of Spain Almería
BEGIN:VTIMEZONE
TZID:UTC
BEGIN:STANDARD
TZOFFSETFROM:+0000
TZOFFSETTO:+0000
TZNAME:UTC
DTSTART:20240101T000000
END:STANDARD
END:VTIMEZONE
BEGIN:VEVENT
DTSTART;TZID=UTC:20240301T190000
DTEND;TZID=UTC:20240301T210000
DTSTAMP:20260425T174459
CREATED:20240215T070101Z
LAST-MODIFIED:20240215T070300Z
UID:9308-1709319600-1709326800@portofspainalmeria.com
SUMMARY:Poison Boys (R´N´R Chicago)
DESCRIPTION:13 € NS / 10 € S \nPort of Spain \nPOISON BOYS (R´N´R CHICAGO)\nSegún con quién hables\, el Rock and Roll está desapareciendo\, evolucionando o volviendo a estar en pleno apogeo. En el caso de los POISON BOYS de Chicago\, están dando nueva vida al género y manteniéndolo lo más punk posible. Mantenerse fiel a los sonidos de las bandas de protopunk de finales de los 60 y principios de los 70 como THE STOOGES\, NEW YORK DOLLS y FLAMIN’ GROOVIES\, y mezclarlos con bandas de punk de finales de los 70 de Nueva York y el Reino Unido como HEARTBREAKERS\, DEAD BOYS\, THE VIBRATORS y SLAUGHTER. & THE DOGS\, con un poco de glamour de HANOI ROCKS por si acaso\, la banda es un soplo de aire fresco en la escena punk y rock and roll actual.\nAhora presentan un nuevo album «Headed for Disaster» (Tropical records 2023)
URL:https://portofspainalmeria.com/evento/poison-boys-rnr-chicago/
LOCATION:Port of Spain\, Parque Nicolás Salmerón 20\, Almeria\, Almería\, 04002\, España
CATEGORIES:Programación
ATTACH;FMTTYPE=image/jpeg:https://portofspainalmeria.com/wp-content/uploads/2024/02/Poison-Boys-Spain-Tour-Poster-Headed-for-Disaster-Version-2-copia-scaled.jpg
END:VEVENT
END:VCALENDAR