
BEGIN:VCALENDAR
VERSION:2.0
PRODID:-//Port of Spain Almería - ECPv5.16.1.1//NONSGML v1.0//EN
CALSCALE:GREGORIAN
METHOD:PUBLISH
X-WR-CALNAME:Port of Spain Almería
X-ORIGINAL-URL:https://portofspainalmeria.com
X-WR-CALDESC:Eventos para Port of Spain Almería
BEGIN:VTIMEZONE
TZID:UTC
BEGIN:STANDARD
TZOFFSETFROM:+0000
TZOFFSETTO:+0000
TZNAME:UTC
DTSTART:20260101T000000
END:STANDARD
END:VTIMEZONE
BEGIN:VEVENT
DTSTART;TZID=UTC:20260509T220000
DTEND;TZID=UTC:20260509T233000
DTSTAMP:20260425T145238
CREATED:20260424T140525Z
LAST-MODIFIED:20260424T140525Z
UID:18546-1778364000-1778369400@portofspainalmeria.com
SUMMARY:Modo 130 & Nağme Yarkin
DESCRIPTION:15€ NS / 7€ S \nModo 130 es una formación musical que nació de las manos de Christos Kanellos Malamás y David Ruiz en 2010 con el objetivo de interpretar cuentos musicales\, estos son poemas que siguen una narrativa – temática\, acompañados por un repertorio musical variado de diferentes estilos y procedencias. Dicho repertorio abarca músicas de oriente medio\, jazz\, clásica\, música sefardita y cantos a capella de tradición griega y turca\, entre otras. \nCon el paso de los años se incorporaron composiciones propias de Christos Kanellos y el grupo ha adquirido una visión hacia la experimentación y la creación musical en directo. Actualmente el duo\, que en ocasiones cuenta con la colaboración de diferentes artistas\, en este caso disfrutando de la reconocida intérprete de la lyra (kemence) turca Nağme Yarkin\, se dedica a interpretar un amplio repertorio de músicas del mediterráneo\, griega\, turca y de composición propia mezcladas siempre con el factor improvisación en directo. \nSu trayectoria abarca más de una década de numerosos conciertos\, actuaciones y proyectos creativos multidisciplinares en todo el territorio español. \nEl grupo también cuenta con dos discos editados: “Anémis” y “Oración”\, donde se refleja su estilo propio. En los discos han participado diferentes artistas. \nMúsicos \nChristos Kanellos Malamás: voz\, saz turco\, lafta\, guitarraDavid Ruiz: panderos\, darbuka\, rikNağme Yarkin: kemence \nPrograma del presente concierto \nEn el presente concierto interpretaremos músicas tradicionales de Grecia de diferentes estilos y territorios\, así como algunas composiciones propias de Christos Kanellos que siguen el mismo ámbito sonoro.
URL:https://portofspainalmeria.com/evento/modo-130-nagme-yarkin/
LOCATION:Port of Spain\, Parque Nicolás Salmerón 20\, Almeria\, Almería\, 04002\, España
CATEGORIES:Programación
ATTACH;FMTTYPE=image/jpeg:https://portofspainalmeria.com/wp-content/uploads/2026/04/Untitled-design.jpg
END:VEVENT
END:VCALENDAR