
BEGIN:VCALENDAR
VERSION:2.0
PRODID:-//Port of Spain Almería - ECPv5.16.1.1//NONSGML v1.0//EN
CALSCALE:GREGORIAN
METHOD:PUBLISH
X-WR-CALNAME:Port of Spain Almería
X-ORIGINAL-URL:https://portofspainalmeria.com
X-WR-CALDESC:Eventos para Port of Spain Almería
BEGIN:VTIMEZONE
TZID:UTC
BEGIN:STANDARD
TZOFFSETFROM:+0000
TZOFFSETTO:+0000
TZNAME:UTC
DTSTART:20260101T000000
END:STANDARD
END:VTIMEZONE
BEGIN:VEVENT
DTSTART;TZID=UTC:20260306T210000
DTEND;TZID=UTC:20260306T223000
DTSTAMP:20260421T233103
CREATED:20260303T171542Z
LAST-MODIFIED:20260306T175759Z
UID:18220-1772830800-1772836200@portofspainalmeria.com
SUMMARY:Greetings Rock & Folk!
DESCRIPTION:5€ NS / 2€ S \nDisfruta con los almerienses «Greetings» de toda la energía y pasión de la música Rock y Folk. Una banda en directo que nos invita a cantar y bailar\, recorriendo las canciones populares de nuestros grupos favoritos\, compartiendo el pop-rock en castellano\, la música americana y el Folk irlandés. Desde nuestro único «Port Of Spain» al mundo!
URL:https://portofspainalmeria.com/evento/greetings-rock-folk/
LOCATION:Port of Spain\, Parque Nicolás Salmerón 20\, Almeria\, Almería\, 04002\, España
CATEGORIES:Programación
ATTACH;FMTTYPE=image/jpeg:https://portofspainalmeria.com/wp-content/uploads/2026/03/WhatsApp-Image-2026-03-03-at-17.03.33.jpeg
END:VEVENT
END:VCALENDAR